BEGIN:VCALENDAR
VERSION:2.0
PRODID:-//Ziber2013/
CALSCALE:GREGORIAN
BEGIN:VEVENT
UID:242693@https://www.hetmozaiek-enkhuizen.nl
DTSTART:20260527T000000
DTEND:20260529T235959
SUMMARY:Kamp groep 8
DESCRIPTION:
LOCATION:Het Mozaïek\, Toereppel 21\, 1602 KG Enkhuizen
X-MICROSOFT-CDO-ALLDAYEVENT:TRUE
ATTACH;FMTTYPE=image/jpeg:/content/monsterGallery/camp.png?width=1600&height=1200
SEQUENCE:0
DTSTAMP:20260422T152159
END:VEVENT
END:VCALENDAR
