BEGIN:VCALENDAR
VERSION:2.0
PRODID:-//Ziber2013/
CALSCALE:GREGORIAN
BEGIN:VEVENT
UID:242697@https://www.hetmozaiek-enkhuizen.nl
DTSTART:20260701T000000
DTEND:20260701T235959
SUMMARY:Meester & Juffen dag
DESCRIPTION:<p>Alle meesters en juffen zijn jarig!</p>
LOCATION:Het Mozaïek\, Toereppel 21\, 1602 KG Enkhuizen
X-MICROSOFT-CDO-ALLDAYEVENT:TRUE
ATTACH;FMTTYPE=image/jpeg:/content/monsterGallery/party.png?width=1600&height=1200
SEQUENCE:0
DTSTAMP:20260422T152717
END:VEVENT
END:VCALENDAR
