BEGIN:VCALENDAR
VERSION:2.0
PRODID:-//Ziber2013/
CALSCALE:GREGORIAN
BEGIN:VEVENT
UID:242766@https://www.hetmozaiek-enkhuizen.nl
DTSTART:20260518T193000
DTEND:20260518T213000
SUMMARY:MR vergadering (locatie Toereppel)
DESCRIPTION:<p>MR vergaderingen zijn open en voor iedereen toegankelijk.</p><p>wilt u graag meer informatie over bepaalde onderwerpen of wilt u iets aan de kaak stellen?</p><p>Schuif gerust een aan bij een vergadering van de MR\, u bent van harte welkom</p>
LOCATION:Het Mozaïek\, Toereppel 21\, 1602 KG Enkhuizen
ATTACH;FMTTYPE=image/jpeg:/content/monsterGallery/parentcouncil.png?width=1600&height=1200
SEQUENCE:0
DTSTAMP:20260422T122452
END:VEVENT
END:VCALENDAR
